BEGIN:VCALENDAR
PRODID:-//AT Content Types//AT Event//EN
VERSION:2.0
METHOD:PUBLISH
BEGIN:VEVENT
DTSTAMP:20260421T215023Z
CREATED:20160701T142330Z
UID:ATEvent-6e4091e7695241db842a5d78e2f56827
LAST-MODIFIED:20220804T144626Z
SUMMARY:I migliori incentivi per lo sviluppo aziendale: dai finanziamenti per la liquidità al fondo perduto per l'innovazione - Incontro informativo\, 12 luglio 2016
DTSTART:20160712T073000Z
DTEND:20160712T093000Z
DESCRIPTION:Durante l'incontro saranno presentate le versioni aggiorna
 te di incentivi operativi e ben funzionanti e molte altre novità dal 
 grande potenziale.
LOCATION:- Assolombarda Confindustria Milano Monza e Brianza - Sala Giunta (I piano) - Viale Francesco Petrarca 10\, Monza
CONTACT:fin@assolombarda.it
URL:https://www.assolombarda.it/servizi/credito-finanza-e-incentivi/appuntamenti/i-migliori-incentivi-per-lo-sviluppo-aziendale
CLASS:PUBLIC
END:VEVENT
END:VCALENDAR
