BEGIN:VCALENDAR
PRODID:-//AT Content Types//AT Event//EN
VERSION:2.0
METHOD:PUBLISH
BEGIN:VEVENT
DTSTAMP:20260421T190820Z
CREATED:20190926T151845Z
UID:ATEvent-f5e7754cd30f4308a87b90db19818751
LAST-MODIFIED:20220804T144625Z
SUMMARY:I migliori incentivi per la ricerca e sviluppo – Una panoramica delle “last calls”
DTSTART:20191014T123000Z
DTEND:20191014T153000Z
DESCRIPTION:Durante l'incontro informativo verranno illustrate le "ult
 ime" migliori opportunità per le imprese in ambito di ricerca e svilu
 ppo in particolare il Bando Mise per grandi progetti di Ricerca e Svil
 uppo che sarà attivo dall'8 ottobre 2019.
LOCATION:- Assolombarda - Sala Bracco (piano interrato) - Via Chiaravalle 8\, Milano
URL:https://www.assolombarda.it/servizi/credito-finanza-e-incentivi/appuntamenti/i-migliori-incentivi-per-le-imprese-2013-una-panoramica-delle-201clast-calls201d
CLASS:PUBLIC
END:VEVENT
END:VCALENDAR
