BEGIN:VCALENDAR
PRODID:-//AT Content Types//AT Event//EN
VERSION:2.0
METHOD:PUBLISH
BEGIN:VEVENT
DTSTAMP:20260421T181641Z
CREATED:20130515T085808Z
UID:ATEvent-d3e0e7b6046b38c75e22e94acf00078a
LAST-MODIFIED:20220804T144627Z
SUMMARY:I Bandi camerali a sostegno delle PMI:  Agevolacredito e OccupaMi
DTSTART:20130528T123000Z
DTEND:20130528T150000Z
DESCRIPTION:L’obiettivo dell’incontro è presentare alle imprese l
 e iniziative per l'accesso al credito e l’occupazione promosse dalla
  Camera di Commercio di Milano.
LOCATION:- Assolombarda - Sala Falck (piano interrato) - Via Chiaravalle 8\, Milano
CONTACT:fin@assolombarda.it
URL:https://www.assolombarda.it/servizi/credito-finanza-e-incentivi/appuntamenti/i-bandi-camerali-a-sostegno-delle-pmi-agevolacredito-e-occupami
CLASS:PUBLIC
END:VEVENT
END:VCALENDAR
