BEGIN:VCALENDAR
PRODID:-//AT Content Types//AT Event//EN
VERSION:2.0
METHOD:PUBLISH
BEGIN:VEVENT
DTSTAMP:20260421T193238Z
CREATED:20131127T102244Z
UID:ATEvent-0da855d411f2755cda39d9b3db72812f
LAST-MODIFIED:20220804T144627Z
SUMMARY:HORIZON 2020: contributi a fondo perduto per le imprese dall’Europa
DTSTART:20140121T090000Z
DTEND:20140121T120000Z
DESCRIPTION:Incontro di lancio di Horizon 2020 il programma comunitari
 o per la ricerca e lo sviluppo\, per comprenderne le potenzialità e p
 er cosa è consigliabile utilizzarlo.
LOCATION:- Assolombarda - Auditorium Gio Ponti (piano interrato) - Via Pantano 9\, Milano
CONTACT:fin@assolombarda.it
URL:https://www.assolombarda.it/servizi/credito-finanza-e-incentivi/appuntamenti/horizon-2020
CLASS:PUBLIC
END:VEVENT
END:VCALENDAR
