BEGIN:VCALENDAR
PRODID:-//AT Content Types//AT Event//EN
VERSION:2.0
METHOD:PUBLISH
BEGIN:VEVENT
DTSTAMP:20260421T210426Z
CREATED:20141127T130622Z
UID:ATEvent-8395f30a9aa47454ae65f8e75ad64309
LAST-MODIFIED:20220804T144627Z
SUMMARY:Horizon  2020: i partenariati pubblico-privati nel settore delle tecnologie dell’informazione e della comunicazione
DTSTART:20141210T090000Z
DTEND:20141210T120000Z
DESCRIPTION:L'incontro è volto a evidenziare e ad approfondire il ruo
 lo e il funzionamento dei Partenariati Pubblico Privati (PPP) che oper
 ano nel settore ICT.
LOCATION:- Assolombarda - Sala Falck (piano interrato) - Via Chiaravalle 8\, Milano
CONTACT:fin@assolombarda.it
URL:https://www.assolombarda.it/servizi/credito-finanza-e-incentivi/appuntamenti/horizon-2020-i-partenariati-pubblico-privati-nel-settore-delle-tecnologie-dell2019informazione-e-della-comunicazione
CLASS:PUBLIC
END:VEVENT
END:VCALENDAR
