BEGIN:VCALENDAR
PRODID:-//AT Content Types//AT Event//EN
VERSION:2.0
METHOD:PUBLISH
BEGIN:VEVENT
DTSTAMP:20260421T210126Z
CREATED:20140718T085218Z
UID:ATEvent-405186c1663b7d90f1eb8ddccf9f98ad
LAST-MODIFIED:20220804T144627Z
SUMMARY:Horizon 2020 caratteristiche ed operatività: esperienze a confronto
DTSTART:20140923T080000Z
DTEND:20140923T110000Z
DESCRIPTION:Confronto tra esperti sul principale strumento della Commi
 ssione Europea per stimolare l'attività di R&S.
LOCATION:- Assolombarda - Sala Falck (piano interrato) - Via Chiaravalle 8\, Milano
CONTACT:fin@assolombarda.it
URL:https://www.assolombarda.it/servizi/credito-finanza-e-incentivi/appuntamenti/horizon-2020-caratteristiche-ed-operativita-esperienze-a-confronto
CLASS:PUBLIC
END:VEVENT
END:VCALENDAR
