BEGIN:VCALENDAR
PRODID:-//AT Content Types//AT Event//EN
VERSION:2.0
METHOD:PUBLISH
BEGIN:VEVENT
DTSTAMP:20260421T193238Z
CREATED:20131127T111857Z
UID:ATEvent-ce42fbe41426f3c593b476bf967adfe7
LAST-MODIFIED:20220804T144627Z
SUMMARY:Horizon 2020: lo strumento per le pmi
DTSTART:20140509T083000Z
DTEND:20140509T110000Z
DESCRIPTION:Approfondimento sui bandi per la ricerca e sviluppo di Hor
 izon 2020 nel particolare lo "strumento per le pmi" espressamente dedi
 cato alle piccole e medie imprese.
LOCATION:- Assolombarda - Sala Falck (piano interrato) - Via Chiaravalle 8\, Milano
CONTACT:fin@assolombarda.it
URL:https://www.assolombarda.it/servizi/credito-finanza-e-incentivi/appuntamenti/horizon-2020-2
CLASS:PUBLIC
END:VEVENT
END:VCALENDAR
