BEGIN:VCALENDAR
PRODID:-//AT Content Types//AT Event//EN
VERSION:2.0
METHOD:PUBLISH
BEGIN:VEVENT
DTSTAMP:20260421T193246Z
CREATED:20131127T104819Z
UID:ATEvent-74b7605cda3b7c3a12056397f0124756
LAST-MODIFIED:20220804T144627Z
SUMMARY:Contributi a fondo perduto per la ricerca e lo sviluppo: Horizon 2020 per l'energia e l'ambiente
DTSTART:20140225T133000Z
DTEND:20140225T160000Z
DESCRIPTION:Approfondimento sui bandi per la ricerca e sviluppo di Hor
 izon 2020 negli ambiti energia e ambiente.
LOCATION:- Assolombarda - Sala Camerana (6° piano) - Via Pantano 9\, Milano
CONTACT:fin@assolombarda.it
URL:https://www.assolombarda.it/servizi/credito-finanza-e-incentivi/appuntamenti/horizon-2020-1
CLASS:PUBLIC
END:VEVENT
END:VCALENDAR
