BEGIN:VCALENDAR
PRODID:-//AT Content Types//AT Event//EN
VERSION:2.0
METHOD:PUBLISH
BEGIN:VEVENT
DTSTAMP:20260421T205844Z
CREATED:20141218T152203Z
UID:ATEvent-d5565ed9c3e3746103b7175a9ef82c08
LAST-MODIFIED:20220804T144632Z
SUMMARY:Guida al proprio Rating
DTSTART:20150129T133000Z
DTEND:20150129T163000Z
DESCRIPTION:L’incontro ha la finalità di aiutare le imprese a compr
 endere il rating e farne buon uso per: qualificarsi nei rapporti con l
 e istituzioni e i mercati finanziari\, presentarsi a nuovi partner\, m
 igliorare il rapporto con i fornitori\, ottenere condizioni commercial
 i più vantaggiose.
LOCATION:- Assolombarda - Sala Falck (piano interrato) - Via Chiaravalle 8\, Milano
CONTACT:fin@assolombarda.it
URL:https://www.assolombarda.it/servizi/credito-finanza-e-incentivi/appuntamenti/guida-al-proprio-rating
CLASS:PUBLIC
END:VEVENT
END:VCALENDAR
