BEGIN:VCALENDAR
PRODID:-//AT Content Types//AT Event//EN
VERSION:2.0
METHOD:PUBLISH
BEGIN:VEVENT
DTSTAMP:20260421T165907Z
CREATED:20120504T145129Z
UID:ATEvent-24a39df7b783a816db2d2501f319e755
LAST-MODIFIED:20220804T144630Z
SUMMARY:Gli strumenti finanziari a disposizione delle imprese in paesi di interesse per l’export italiano
DTSTART:20120530T080000Z
DTEND:20120530T110000Z
DESCRIPTION:L'incontro ha l'obiettivo di illustrare e approfondire i p
 rincipali strumenti finanziari che aiutano le imprese nei Paesi di for
 te interesse per l’Export italiano\, in particolare Algeria\, Marocc
 o\, Brasile\, Ucraina in cui è presente il Gruppo Crédit Agricole.
LOCATION:- Assolombarda - Sala Falck (piano interrato) - Via Chiaravalle 8\, Milano
URL:https://www.assolombarda.it/servizi/credito-finanza-e-incentivi/appuntamenti/gli-strumenti-di-trade-finance-a-supporto-delle-strategia-di-sviluppo-commerciale-allestero
CLASS:PUBLIC
END:VEVENT
END:VCALENDAR
