BEGIN:VCALENDAR
PRODID:-//AT Content Types//AT Event//EN
VERSION:2.0
METHOD:PUBLISH
BEGIN:VEVENT
DTSTAMP:20260421T214256Z
CREATED:20160715T070819Z
UID:ATEvent-7973b4fefe9c44b99910b47efa1862a9
LAST-MODIFIED:20220804T144626Z
SUMMARY:Gli incentivi consigliati: focus Europa
DTSTART:20160928T080000Z
DTEND:20160928T110000Z
DESCRIPTION:Approfondimento sugli incentivi diretti comunitari.
LOCATION:- Assolombarda Confindustria Milano Monza e Brianza - Sala Bracco (piano interrato) - Via Chiaravalle 8\, Milano
CONTACT:fin@assolombarda.it
URL:https://www.assolombarda.it/servizi/credito-finanza-e-incentivi/appuntamenti/gli-incentivi-consigliati-focus-europa
CLASS:PUBLIC
END:VEVENT
END:VCALENDAR
