BEGIN:VCALENDAR
PRODID:-//AT Content Types//AT Event//EN
VERSION:2.0
METHOD:PUBLISH
BEGIN:VEVENT
DTSTAMP:20260421T202551Z
CREATED:20181203T133825Z
UID:ATEvent-05968269a97d4ce6874331e1a06c6ba1
LAST-MODIFIED:20220804T144632Z
SUMMARY:Fondo di Garanzia per le PMI: le nuove modalità operative
DTSTART:20190327T140000Z
DTEND:20190327T163000Z
DESCRIPTION:Il Fondo di Garanzia per le PMI\, il principale strumento 
 nazionale per facilitare l’accesso al credito di PMI e startup\, si 
 rinnova. Iscriviti all'evento per scoprire tutte le novità e il servi
 zio di Assolombarda.
LOCATION:- Assolombarda - Sala Falck (piano interrato) - Via Chiaravalle 8\, Milano
URL:https://www.assolombarda.it/servizi/credito-finanza-e-incentivi/appuntamenti/fondo-di-garanzia-per-le-pmi-le-nuove-modalita-operative
CLASS:PUBLIC
END:VEVENT
END:VCALENDAR
