BEGIN:VCALENDAR
PRODID:-//AT Content Types//AT Event//EN
VERSION:2.0
METHOD:PUBLISH
BEGIN:VEVENT
DTSTAMP:20260421T203640Z
CREATED:20190319T113009Z
UID:ATEvent-80cda3f2e56e4ef29d9da48cf8e93250
LAST-MODIFIED:20250304T145112Z
SUMMARY:Fondo di Garanzia per le PMI: le nuove modalità operative - Collegamento in streaming dal Presidio di Monza
DTSTART:20190327T140000Z
DTEND:20190327T163000Z
DESCRIPTION:Il Fondo di Garanzia per le PMI\, il principale strumento 
 nazionale per facilitare l’accesso al credito di PMI e startup\, si 
 rinnova. Iscriviti all'evento per scoprire tutte le novità e il servi
 zio di Assolombarda.
LOCATION:Assolombarda Confindustria Milano Monza e Brianza - Presidio di Monza\, Viale Francesco Petrarca 10\, Monza
URL:https://www.assolombarda.it/servizi/credito-finanza-e-incentivi/appuntamenti/fondo-di-garanzia-per-le-pmi-le-nuove-modalita-operative-collegamento-in-streaming-dal-presidio-di-monza
CLASS:PUBLIC
END:VEVENT
END:VCALENDAR
