BEGIN:VCALENDAR
PRODID:-//AT Content Types//AT Event//EN
VERSION:2.0
METHOD:PUBLISH
BEGIN:VEVENT
DTSTAMP:20260421T165607Z
CREATED:20120326T082030Z
UID:ATEvent-f826fe921a644bedf8bea8bcef97122d
LAST-MODIFIED:20220804T144630Z
SUMMARY:Fondo di Garanzia per le Piccole e Medie Imprese - I vantaggi e le novità dell'utilizzo per l'accesso al credito
DTSTART:20120309T093000Z
DTEND:20120309T120000Z
DESCRIPTION:L'obiettivo dell'incontro è di migliorare la conscenza de
 lle modalità di intervento del Fondo\, i prossimi potenziamenti dello
  strumento e fornire conoscenze utili e basilari per la negoziazione c
 on gli istituti di credito.
LOCATION:- Assolombarda - Sala Falck (piano interrato) - Via Chiaravalle 8\, Milano
URL:https://www.assolombarda.it/servizi/credito-finanza-e-incentivi/appuntamenti/fondo-di-garanzia-per-le-piccole-e-medie-imprese-i-vantaggi-e-le-novita-dellutilizzo-per-laccesso-al-credito
CLASS:PUBLIC
END:VEVENT
END:VCALENDAR
