BEGIN:VCALENDAR
PRODID:-//AT Content Types//AT Event//EN
VERSION:2.0
METHOD:PUBLISH
BEGIN:VEVENT
DTSTAMP:20260421T193907Z
CREATED:20131216T114423Z
UID:ATEvent-c40b4ef3fefdefd7c8fd1cb7ba001940
LAST-MODIFIED:20220804T144631Z
SUMMARY:Finaziamenti\, contributi e garanzie per l'acquisto di macchinari: Sabatini Bis e Fondo di garanzia per le pmi
DTSTART:20140320T093000Z
DTEND:20140320T120000Z
DESCRIPTION:Incontro per approfondire il nuovo finanziamento per l'acq
 uisto di beni strumentali\, conosciuto come Sabatini bis\, e il nuovo 
 regolamento del Fondo di garanzia per le pmi.
LOCATION:- Assolombarda - Auditorium Gio Ponti (piano interrato) - Via Pantano 9\, Milano
CONTACT:fin@assolombarda.it
URL:https://www.assolombarda.it/servizi/credito-finanza-e-incentivi/appuntamenti/finaziamenti-contributi-e-garanzie-per-lacquisto-di-macchinari-sabatini-bis-e-fondo-di-garanzia-per-le-pmi
CLASS:PUBLIC
END:VEVENT
END:VCALENDAR
