BEGIN:VCALENDAR
PRODID:-//AT Content Types//AT Event//EN
VERSION:2.0
METHOD:PUBLISH
BEGIN:VEVENT
DTSTAMP:20260421T193444Z
CREATED:20131127T103033Z
UID:ATEvent-7308a96237349bfa0ab7339edd16aa6e
LAST-MODIFIED:20220804T144627Z
SUMMARY:Come finanziare l'innovazione: gli strumenti e le opportunità
DTSTART:20140128T133000Z
DTEND:20140128T163000Z
DESCRIPTION:Durante l’incontro saranno fornite indicazioni e soluzio
 ni per ottenere la liquidità necessaria per acquistare o realizzare l
 a propria innovazione.
LOCATION:- Assolombarda - Sala Falck (piano interrato) - Via Chiaravalle 8\, Milano
CONTACT:fin@assolombarda.it
URL:https://www.assolombarda.it/servizi/credito-finanza-e-incentivi/appuntamenti/finanziamento-banca-popolare-di-lodi
CLASS:PUBLIC
END:VEVENT
END:VCALENDAR
