BEGIN:VCALENDAR
PRODID:-//AT Content Types//AT Event//EN
VERSION:2.0
METHOD:PUBLISH
BEGIN:VEVENT
DTSTAMP:20260421T190316Z
CREATED:20200608T103307Z
UID:ATEvent-a582338727d644cdba3cb46773bd38c6
LAST-MODIFIED:20220804T144625Z
SUMMARY:Finanziamenti per la liquidità e l'internazionalizzazione: la nuova offerta di SIMEST
DTSTART:20200624T123000Z
DTEND:20200624T140000Z
DESCRIPTION:Il DL Cura Italia e la legge Liquidità hanno potenziato e
  reso più appetibili tutti i finanziamenti SIMEST per le piccole e me
 die imprese\, rendendoli tra i più interessanti tra quelli offerti da
 l mercato del credito.
LOCATION:Webinar
CONTACT:fin@assolombarda.it
URL:https://www.assolombarda.it/servizi/credito-finanza-e-incentivi/appuntamenti/finanziamenti-per-la-liquidita-e-linternazionalizzazione-la-nuova-offerta-di-simest
CLASS:PUBLIC
END:VEVENT
END:VCALENDAR
