BEGIN:VCALENDAR
PRODID:-//AT Content Types//AT Event//EN
VERSION:2.0
METHOD:PUBLISH
BEGIN:VEVENT
DTSTAMP:20260421T165702Z
CREATED:20120316T150736Z
UID:ATEvent-05aba52f0e1fc3bb434d5f2ceeb6e02b
LAST-MODIFIED:20220804T144630Z
SUMMARY:Finanziamenti per la liquidità aziendale a fronte di ordini
DTSTART:20120126T090000Z
DTEND:20120126T120000Z
DESCRIPTION:Regione Lombardia\, Finlombarda e la Banca Europea degli I
 nvestimenti hanno attivato\, in collaborazione con i principali istitu
 ti di credito del territorio\, un fondo da 500 milioni di euro per sos
 tenere il fabbisogno di liquidità delle piccole e medie imprese lomba
 rde.
LOCATION:- Assolombarda - Sala Falck (piano interrato) - Via Chiaravalle 8\, Milano
URL:https://www.assolombarda.it/servizi/credito-finanza-e-incentivi/appuntamenti/finanziamenti-per-la-liquidita-aziendale-a-fronte-di-ordini
CLASS:PUBLIC
END:VEVENT
END:VCALENDAR
