BEGIN:VCALENDAR
PRODID:-//AT Content Types//AT Event//EN
VERSION:2.0
METHOD:PUBLISH
BEGIN:VEVENT
DTSTAMP:20260421T193931Z
CREATED:20131118T120345Z
UID:ATEvent-99927f477339a51090c6bb317ea33d9b
LAST-MODIFIED:20220804T144631Z
SUMMARY:Finanza straordinaria e valutazione d'azienda: principali considerazioni metodologiche e pratiche - Formazione finanziata\, 19-20 febbraio
DTSTART:20140219T080000Z
DTEND:20140220T170000Z
DESCRIPTION:Corso di formazione finanziata tramite Fondimpresa che vuo
 le evidenziare le principali operazioni di finanza straordinaria.
LOCATION:- Assolombarda - Sala Ingresso (piano terra) - Via Pantano 9\, Milano
URL:https://www.assolombarda.it/servizi/credito-finanza-e-incentivi/appuntamenti/finanza-straordinaria-e-valutazione-dazienda-principali-considerazioni-metodologiche-e-pratiche-formazione-finanziata-19-20-febbraio
CLASS:PUBLIC
END:VEVENT
END:VCALENDAR
