BEGIN:VCALENDAR
PRODID:-//AT Content Types//AT Event//EN
VERSION:2.0
METHOD:PUBLISH
BEGIN:VEVENT
DTSTAMP:20260421T193910Z
CREATED:20130531T123726Z
UID:ATEvent-a41467079d5ce413ea9d289089a53743
LAST-MODIFIED:20220804T144631Z
SUMMARY:Finanza straordinaria e valutazione d'azienda: principali considerazioni metodologiche e pratiche - Formazione finanziata\, 18-19 settembre
DTSTART:20130918T070000Z
DTEND:20130919T160000Z
DESCRIPTION:Il corso vuole evidenziare quelle che sono le principali o
 perazioni di finanza straordinaria con riferimento all’azienda e le 
 principali metodologie più comunemente applicate in tali contesti. Du
 rante il corso verranno condivisi i principali aspetti metodologici e 
 pratici.
LOCATION:- Assolombarda - Sala Bianchi (4° piano) - Via Pantano 9\, Milano
URL:https://www.assolombarda.it/servizi/credito-finanza-e-incentivi/appuntamenti/finanza-straordinaria-e-valutazione-dazienda-principali-considerazioni-metodologiche-e-pratiche-formazione-finanziata-18-19-settembre
CLASS:PUBLIC
END:VEVENT
END:VCALENDAR
