BEGIN:VCALENDAR
PRODID:-//AT Content Types//AT Event//EN
VERSION:2.0
METHOD:PUBLISH
BEGIN:VEVENT
DTSTAMP:20260421T175912Z
CREATED:20200731T144825Z
UID:ATEvent-5892a703e9624873adfb5d46879944b5
LAST-MODIFIED:20220804T144629Z
SUMMARY:Finanza Sostenibile: volano per il rilancio delle imprese dopo l’emergenza Covid-19
DTSTART:20200917T073000Z
DTEND:20200917T090000Z
DESCRIPTION:Alla situazione di emergenza generata dalla pandemia\, la 
 Commissione europea risponde con la proposta di un “Piano di Recuper
 o” basato sulle parole chiavi “green e sostenibilità”. La trans
 izione green sarà possibile grazie alla finanza sostenibile\, intesa 
 come il processo di considerare i fattori ambientali\, sociali e di go
 vernance nell’adozione di scelte di finanziamento e investimento per
  orientare i capitali pubblici e privati in attività sostenibili e di
  lungo periodo.
LOCATION:Incontro online
URL:https://www.assolombarda.it/servizi/credito-finanza-e-incentivi/appuntamenti/finanza-sostenibile-volano-per-il-rilancio-delle-imprese-dopo-l2019emergenza-covid_19
CLASS:PUBLIC
END:VEVENT
END:VCALENDAR
