BEGIN:VCALENDAR
PRODID:-//AT Content Types//AT Event//EN
VERSION:2.0
METHOD:PUBLISH
BEGIN:VEVENT
DTSTAMP:20260421T190632Z
CREATED:20200217T133620Z
UID:ATEvent-b04e451891104079abf6ef91f2a9b3d6
LAST-MODIFIED:20220804T144636Z
SUMMARY:Finanza Sostenibile: tra regolamentazione e opportunità per le imprese - In videoconferenza con il Presidio di Monza
DTSTART:20200318T090000Z
DTEND:20200318T120000Z
DESCRIPTION:Dopo il “Piano di azione della Commissione europea per f
 inanziare la crescita sostenibile” si parla sempre più\, a livello 
 internazionale\, di finanza sostenibile\, intesa come il processo di t
 enere in considerazione i fattori ambientali\, sociali e di governance
  nell’adozione di scelte di finanziamento e investimento con lo scop
 o di orientare i capitali privati in attività sostenibili e di lungo 
 periodo.
LOCATION:- Videoconferenza: Viale Francesco Petrarca 10\, Monza
URL:https://www.assolombarda.it/servizi/credito-finanza-e-incentivi/appuntamenti/finanza-sostenibile-tra-regolamentazione-e-opportunita-per-le-imprese-in-videoconferenza-con-il-presidio-di-monza
CLASS:PUBLIC
END:VEVENT
END:VCALENDAR
