BEGIN:VCALENDAR
PRODID:-//AT Content Types//AT Event//EN
VERSION:2.0
METHOD:PUBLISH
BEGIN:VEVENT
DTSTAMP:20260421T173746Z
CREATED:20220301T185334Z
UID:ATEvent-ff17017d35d0415a893b616a6ec6bd6a
LAST-MODIFIED:20220804T144636Z
SUMMARY:Finanza sostenibile: proposte per affrontare le sfide future
DTSTART:20220316T140000Z
DTEND:20220316T160000Z
DESCRIPTION:Assolombarda presenta una serie di raccomandazioni per ren
 dere più efficace e pervasivo l’inserimento della sostenibilità ne
 lle linee strategiche di ogni impresa e la sua valorizzazione nei conf
 ronti del mondo finanziario. Ne discuteremo con i principali attori de
 l mondo imprenditoriale\, finanziario\, istituzionale e delle nuove ge
 nerazioni. L'evento sarà trasmesso in diretta streaming sul webmagazi
 ne di Assolombarda\, Genio&Impresa.
LOCATION:- Assolombarda - Auditorium Giorgio Squinzi (piano interrato) - Via Pantano 9\, Milano
URL:https://www.assolombarda.it/servizi/credito-finanza-e-incentivi/appuntamenti/finanza-sostenibile-sfide-e-proposte-per-le-imprese
CLASS:PUBLIC
END:VEVENT
END:VCALENDAR
