BEGIN:VCALENDAR
PRODID:-//AT Content Types//AT Event//EN
VERSION:2.0
METHOD:PUBLISH
BEGIN:VEVENT
DTSTAMP:20260421T193743Z
CREATED:20130624T142143Z
UID:ATEvent-f55a3a3119e766174a2e28f8597fee93
LAST-MODIFIED:20220804T144627Z
SUMMARY:Fare impresa digitale: contributi a fondo perduto per progetti di investimento e sviluppo basati sulle tecnologie ICT
DTSTART:20130710T140000Z
DTEND:20130710T160000Z
DESCRIPTION:Bando promosso da CCIAA e Comune di Milano per agevolare\,
  tramite contributi a fondo perduto\, l'acquisto di tecnologia ICT o l
 o sviluppo di nuove tecnologie digitali da parte di PMI di Milano e pr
 ovincia.
LOCATION:- Assolombarda - Sala Falck (piano interrato) - Via Chiaravalle 8\, Milano
CONTACT:fin@assolombarda.it
URL:https://www.assolombarda.it/servizi/credito-finanza-e-incentivi/appuntamenti/fare-impresa-digitale-contributi-a-fondo-perduto-per-progetti-di-investimento-e-sviluppo-basati-sulle-tecnologie-ict
CLASS:PUBLIC
END:VEVENT
END:VCALENDAR
