BEGIN:VCALENDAR
PRODID:-//AT Content Types//AT Event//EN
VERSION:2.0
METHOD:PUBLISH
BEGIN:VEVENT
DTSTAMP:20260421T185948Z
CREATED:20191010T095537Z
UID:ATEvent-8d8593e6d3ff49e0800dce2623b4b21c
LAST-MODIFIED:20220804T144629Z
SUMMARY:Essere Banca per 1 giorno
DTSTART:20191104T151500Z
DTEND:20191104T180000Z
DESCRIPTION:Hai mai voluto essere al posto della banca e valutare tu u
 na richiesta di finanziamento?
LOCATION:Ristorante Saint George Premier - Viale di Vedano 7\, Monza
URL:https://www.assolombarda.it/servizi/credito-finanza-e-incentivi/appuntamenti/essere-banca-per-1-giorno
CLASS:PUBLIC
END:VEVENT
END:VCALENDAR
