BEGIN:VCALENDAR
PRODID:-//AT Content Types//AT Event//EN
VERSION:2.0
METHOD:PUBLISH
BEGIN:VEVENT
DTSTAMP:20260421T181648Z
CREATED:20130208T154017Z
UID:ATEvent-92cb81a5e80eec8e2de1d9ba25953ea3
LAST-MODIFIED:20220804T144631Z
SUMMARY:Eco-Innovation 2013: dall'Europa un sostegno concreto all'innovazione green
DTSTART:20130226T090000Z
DTEND:20130226T120000Z
DESCRIPTION:Oltre 30 milioni stanziati per  il  Bando Eco-Innovation  
 2013\, l’iniziativa europea che sostiene gli investimenti per prodot
 ti\, tecniche\, servizi e processi eco-innovativi.
LOCATION:- Assolombarda - Sala Bracco (piano interrato) - Via Chiaravalle 8\, Milano
CONTACT:fin@assolombarda.it
URL:https://www.assolombarda.it/servizi/credito-finanza-e-incentivi/appuntamenti/eco-innovation-2013-dalleuropa-un-sostegno-concreto-allinnovazione-green
CLASS:PUBLIC
END:VEVENT
END:VCALENDAR
