BEGIN:VCALENDAR
PRODID:-//AT Content Types//AT Event//EN
VERSION:2.0
METHOD:PUBLISH
BEGIN:VEVENT
DTSTAMP:20260421T210217Z
CREATED:20150311T095134Z
UID:ATEvent-c78e9d6f2d7715936c4eaab46842c508
LAST-MODIFIED:20220804T144632Z
SUMMARY:Diamo Credito alle Supply Chain!
DTSTART:20150324T080000Z
DTEND:20150324T121500Z
DESCRIPTION:Nel mondo del credito alle imprese guardare la singola rea
 ltà ormai non è più sufficiente. È necessario analizzare in profon
 dità\, con spirito critico\, il settore a cui appartiene e le relazio
 ni di business che ha saputo creare. In sintesi\, è opportuno compren
 dere come si compone la "Supply Chain" in cui l'impresa opera. Con que
 sta consapevolezza nasce l'Osservatorio Supply Chain Finance\, il cui 
 obiettivo è quello di studiare strumenti\, metodi e modelli per facil
 itare l'accesso al credito - e più in generale il controllo del Capit
 ale Circolante - alle imprese che operano nelle molteplici Supply Chai
 n che costituiscono il tessuto imprenditoriale Italiano.
LOCATION:- Assolombarda - Auditorium Gio Ponti (piano interrato) - Via Pantano 9\, Milano
CONTACT:fin@assolombarda.it
URL:https://www.assolombarda.it/servizi/credito-finanza-e-incentivi/appuntamenti/diamo-credito-alle-supply-chain-convegno-politecnico
CLASS:PUBLIC
END:VEVENT
END:VCALENDAR
