BEGIN:VCALENDAR
PRODID:-//AT Content Types//AT Event//EN
VERSION:2.0
METHOD:PUBLISH
BEGIN:VEVENT
DTSTAMP:20260421T193536Z
CREATED:20140423T072203Z
UID:ATEvent-325c8568e1f096ff5f60ffecc3ab6ec3
LAST-MODIFIED:20220804T144632Z
SUMMARY:Demo day: le startup innovative incontrano investitori e imprenditori
DTSTART:20140505T130000Z
DTEND:20140505T160000Z
DESCRIPTION:Pomeriggio di matchmaking in Assolombarda: le startup inno
 vative presentano le loro idee  a investitori e imprenditori alla rice
 rca di innovazione e di nuovi business.
LOCATION:- Assolombarda - Auditorium Gio Ponti (piano interrato) - Via Pantano 9\, Milano
CONTACT:fin@assolombarda.it
URL:https://www.assolombarda.it/servizi/credito-finanza-e-incentivi/appuntamenti/demo-day-le-startup-innovate-incontrano-investitori-e-imprenditori
CLASS:PUBLIC
END:VEVENT
END:VCALENDAR
