BEGIN:VCALENDAR
PRODID:-//AT Content Types//AT Event//EN
VERSION:2.0
METHOD:PUBLISH
BEGIN:VEVENT
DTSTAMP:20260421T175916Z
CREATED:20200731T144011Z
UID:ATEvent-40c12dfaf45c4048acdbb078a47066dc
LAST-MODIFIED:20220804T144633Z
SUMMARY:Dall’analisi del posizionamento alla definizione dei piani di sviluppo
DTSTART:20200910T073000Z
DTEND:20200910T090000Z
DESCRIPTION:L'incontro ha l'obiettivo di evidenziare l’importanza di
  analizzare il proprio posizionamento\, anche in seguito all’emergen
 za Covid-19\, prima di definire le strategie di sviluppo e di costruir
 e il business plan\, attraverso un approccio a medio-lungo termine che
  prenda in considerazione il maggior numero di variabili quali-quantit
 ative.
LOCATION:Incontro online
URL:https://www.assolombarda.it/servizi/credito-finanza-e-incentivi/appuntamenti/dall2019analisi-del-posizionamento-all2019analisi-dei-piani-di-sviluppo
CLASS:PUBLIC
END:VEVENT
END:VCALENDAR
