BEGIN:VCALENDAR
PRODID:-//AT Content Types//AT Event//EN
VERSION:2.0
METHOD:PUBLISH
BEGIN:VEVENT
DTSTAMP:20260421T210301Z
CREATED:20141209T142106Z
UID:ATEvent-fded75fbb03dc309be0860b693ac9a91
LAST-MODIFIED:20220804T144632Z
SUMMARY:Dal bilancio civilistico al rendiconto finanziario – Formazione Finanziata 23 marzo 2015
DTSTART:20150323T080000Z
DTEND:20150323T170000Z
DESCRIPTION:Corso di formazione finanziata tramite Fondimpresa che mir
 a a fornire indicazioni utili per la predisposizione e l'interpretazio
 ne di un rendiconto finanziario.
LOCATION:- Assolombarda - Sala Bianchi (4° piano) - Via Pantano 9\, Milano
URL:https://www.assolombarda.it/servizi/credito-finanza-e-incentivi/appuntamenti/dal-bilancio-civilistico-al-rendiconto-finanziario-formazione-finanziata-23-marzo-2015
CLASS:PUBLIC
END:VEVENT
END:VCALENDAR
