BEGIN:VCALENDAR
PRODID:-//AT Content Types//AT Event//EN
VERSION:2.0
METHOD:PUBLISH
BEGIN:VEVENT
DTSTAMP:20260421T193645Z
CREATED:20140127T141348Z
UID:ATEvent-3d692988a5043cf811e6b306e085272f
LAST-MODIFIED:20220804T144632Z
SUMMARY:Dal bilancio civilistico al rendiconto finanziario – Formazione Finanziata 9 e 15 aprile
DTSTART:20140409T070000Z
DTEND:20140415T160000Z
DESCRIPTION:Corso di formazione finanziata tramite Fondimpresa che mir
 a a fornire indicazioni utili per la predisposizione e l'interpretazio
 ne di un rendiconto finanziario.
LOCATION:- Assolombarda - Sala Ingresso (piano terra) - Via Pantano 9\, Milano
URL:https://www.assolombarda.it/servizi/credito-finanza-e-incentivi/appuntamenti/dal-bilancio-civilistico-al-rendiconto-finanziario-2013-formazione-finanziata-9-e-15-aprile
CLASS:PUBLIC
END:VEVENT
END:VCALENDAR
