BEGIN:VCALENDAR
PRODID:-//AT Content Types//AT Event//EN
VERSION:2.0
METHOD:PUBLISH
BEGIN:VEVENT
DTSTAMP:20260421T205945Z
CREATED:20151023T104024Z
UID:ATEvent-88252ece91d17bb555aea001c7c8088b
LAST-MODIFIED:20220804T144633Z
SUMMARY:Crowdfunding\, questo sconosciuto
DTSTART:20151112T161500Z
DTEND:20151112T180000Z
DESCRIPTION:Finanziamenti e investitori in un click…o quasi!
LOCATION:- Assolombarda - Sala Camerana (6° piano) - Via Pantano 9\, Milano
CONTACT:fin@assolombarda.it
URL:https://www.assolombarda.it/servizi/credito-finanza-e-incentivi/appuntamenti/crowdfunding-questo-sconosciuto
CLASS:PUBLIC
END:VEVENT
END:VCALENDAR
