BEGIN:VCALENDAR
PRODID:-//AT Content Types//AT Event//EN
VERSION:2.0
METHOD:PUBLISH
BEGIN:VEVENT
DTSTAMP:20260421T181323Z
CREATED:20130503T132303Z
UID:ATEvent-2ea08118ac59d34c3f5316adee28dd88
LAST-MODIFIED:20220804T144631Z
SUMMARY:Crisi di impresa e risanamento: gli strumenti a sostegno delle imprese in difficoltà
DTSTART:20130514T080000Z
DTEND:20130514T110000Z
DESCRIPTION:In tempi di crisi avere consapevolezza della propria situa
 zione finanziaria è fondamentale per gestire al meglio l’eccessivo 
 indebitamento e garantire la continuità e competitività d’impresa.
 
LOCATION:- Assolombarda - Sala Falck (piano interrato) - Via Chiaravalle 8\, Milano
CONTACT:fin@assolombarda.it
URL:https://www.assolombarda.it/servizi/credito-finanza-e-incentivi/appuntamenti/crisi-di-impresa-e-risanamento-gli-strumenti-a-sostegno-delle-imprese-in-difficolta
CLASS:PUBLIC
END:VEVENT
END:VCALENDAR
