BEGIN:VCALENDAR
PRODID:-//AT Content Types//AT Event//EN
VERSION:2.0
METHOD:PUBLISH
BEGIN:VEVENT
DTSTAMP:20260421T214830Z
CREATED:20151214T092141Z
UID:ATEvent-f52d62a9913e7843d1b339213e9075a6
LAST-MODIFIED:20220804T144624Z
SUMMARY:Credito e filiera\, tante opportunità: chi è pronto a coglierle?
DTSTART:20160310T080000Z
DTEND:20160310T120000Z
DESCRIPTION:Durante l'incontro in collaborazione con Il Politecnico di
  Milano verranno illustrati i dati del 2° Osservatorio Supply Chain.
LOCATION:- Assolombarda Confindustria Milano Monza e Brianza - Auditorium Gio Ponti (piano interrato) - Via Pantano 9\, Milano
CONTACT:fin@assolombarda.it
URL:https://www.assolombarda.it/servizi/credito-finanza-e-incentivi/appuntamenti/credito-e-filiera-tante-opportunita-chi-e-pronto-a-coglierle
CLASS:PUBLIC
END:VEVENT
END:VCALENDAR
