BEGIN:VCALENDAR
PRODID:-//AT Content Types//AT Event//EN
VERSION:2.0
METHOD:PUBLISH
BEGIN:VEVENT
DTSTAMP:20260421T214106Z
CREATED:20160715T092423Z
UID:ATEvent-b316a43f5a8e48728ea221b8e0f2efa3
LAST-MODIFIED:20220804T144635Z
SUMMARY:POSTI ESAURITI - Costruire e presentare un business plan efficace
DTSTART:20161121T133000Z
DTEND:20161121T163000Z
DESCRIPTION:L'incontro ha l’obiettivo di aiutare le piccole e medie 
 imprese a comprendere come devono costruire e raccontare il proprio bu
 siness\, utilizzando senza indugi e senza eccessi anche strumenti volo
 ntari che possano permettere di comunicare efficacemente\, concretamen
 te e semplicemente il valore che genereranno negli anni.
LOCATION:- Assolombarda Confindustria Milano Monza e Brianza - Sala Erba (piano interrato) - Via Pantano 9\, Milano
CONTACT:fin@assolombarda.it
URL:https://www.assolombarda.it/servizi/credito-finanza-e-incentivi/appuntamenti/costruire-e-presentare-un-business-plan-efficace
CLASS:PUBLIC
END:VEVENT
END:VCALENDAR
