BEGIN:VCALENDAR
PRODID:-//AT Content Types//AT Event//EN
VERSION:2.0
METHOD:PUBLISH
BEGIN:VEVENT
DTSTAMP:20260421T174006Z
CREATED:20210128T085220Z
UID:ATEvent-f3ecda6f7fe64ab691cdce0242d484b0
LAST-MODIFIED:20220804T144621Z
SUMMARY:Conversazioni sulla finanza - Come l’assicurazione del credito aiuta a ridurre il rischio di incasso
DTSTART:20210505T160000Z
DTEND:20210505T170000Z
DESCRIPTION:Secondo appuntamento di un ciclo dedicato all’approfondi
 mento di temi specifici e di attualità legati al mondo del credito e 
 della finanza.
LOCATION:Incontro online
URL:https://www.assolombarda.it/servizi/credito-finanza-e-incentivi/appuntamenti/conversazioni-sulla-finanza-l2019assicurazione-del-credito
CLASS:PUBLIC
END:VEVENT
END:VCALENDAR
