BEGIN:VCALENDAR
PRODID:-//AT Content Types//AT Event//EN
VERSION:2.0
METHOD:PUBLISH
BEGIN:VEVENT
DTSTAMP:20260421T173931Z
CREATED:20210128T090434Z
UID:ATEvent-9b5b7ea1ebf54946a6ac028041615228
LAST-MODIFIED:20220804T144621Z
SUMMARY:Conversazioni sulla finanza: il punto sul fintech
DTSTART:20210707T160000Z
DTEND:20210707T170000Z
DESCRIPTION:Quarto appuntamento di un ciclo dedicato all’approfondim
 ento di temi specifici e di attualità legati al mondo del credito e d
 ella finanza.
LOCATION:Incontro online
URL:https://www.assolombarda.it/servizi/credito-finanza-e-incentivi/appuntamenti/conversazioni-sulla-finanza-il-punto-sul-fintech
CLASS:PUBLIC
END:VEVENT
END:VCALENDAR
