BEGIN:VCALENDAR
PRODID:-//AT Content Types//AT Event//EN
VERSION:2.0
METHOD:PUBLISH
BEGIN:VEVENT
DTSTAMP:20260421T191058Z
CREATED:20181203T144512Z
UID:ATEvent-4502799b3dd64ce5b9e0a86506ed045d
LAST-MODIFIED:20220804T144628Z
SUMMARY:Gli strumenti per un controllo di gestione economico – finanziario “quick & dirty”
DTSTART:20190605T080000Z
DTEND:20190605T110000Z
DESCRIPTION:La gestione della tesoreria rappresenta un'attività molto
  importante per l’impresa: si tratta di uno strumento fondamentale c
 he permette di tenere sotto controllo e di programmare la situazione f
 inanziaria sulla base di un'operatività quotidiana.
LOCATION:- Assolombarda - Sala Falck (piano interrato) - Via Chiaravalle 8\, Milano
URL:https://www.assolombarda.it/servizi/credito-finanza-e-incentivi/appuntamenti/controllo-di-gestione-e-tesoreria
CLASS:PUBLIC
END:VEVENT
END:VCALENDAR
