BEGIN:VCALENDAR
PRODID:-//AT Content Types//AT Event//EN
VERSION:2.0
METHOD:PUBLISH
BEGIN:VEVENT
DTSTAMP:20260421T191057Z
CREATED:20190130T151320Z
UID:ATEvent-c9fffe3e9e7141dab34fa40e5226e013
LAST-MODIFIED:20220804T144633Z
SUMMARY:Gli strumenti per un controllo di gestione economico – finanziario “quick & dirty” - Collegamento in streaming dal Presidio di Monza
DTSTART:20190605T080000Z
DTEND:20190605T110000Z
DESCRIPTION:La gestione della tesoreria rappresenta un'attività molto
  importante per l’impresa: si tratta di uno strumento fondamentale c
 he permette di tenere sotto controllo e di programmare la situazione f
 inanziaria sulla base di un'operatività quotidiana.
LOCATION:Assolombarda Confindustria Milano\, Monza e Brianza\, Lodi - Sala 1 (piano terra) - Viale Francesco Petrarca 10\, Monza
URL:https://www.assolombarda.it/servizi/credito-finanza-e-incentivi/appuntamenti/controllo-di-gestione-e-tesoreria-1
CLASS:PUBLIC
END:VEVENT
END:VCALENDAR
