BEGIN:VCALENDAR
PRODID:-//AT Content Types//AT Event//EN
VERSION:2.0
METHOD:PUBLISH
BEGIN:VEVENT
DTSTAMP:20260421T214250Z
CREATED:20160330T110655Z
UID:ATEvent-b0818d9c1b4b6d4a38fe3ac887acf09b
LAST-MODIFIED:20220804T144626Z
SUMMARY:Incontro: contributi a fondo perduto Bando Smart Fashion and Design
DTSTART:20160421T123000Z
DTEND:20160421T143000Z
DESCRIPTION:Incontro di approfondimento sul Bando "Smart Fashion e Des
 ign" di Regione Lombardia\, l'unico bando regionale che eroga contribu
 ti a fondo perduto per progetti di ricerca e sviluppo.
LOCATION:- Assolombarda Confindustria Milano Monza e Brianza - Sala Congressi (piano interrato) - Viale Francesco Petrarca 10\, Monza
CONTACT:fin@assolombarda.it
URL:https://www.assolombarda.it/servizi/credito-finanza-e-incentivi/appuntamenti/contributi-a-fondo-perduto-per-progetti-di-ricerca-e-innovazione-nel-settore-moda-e-design-1
CLASS:PUBLIC
END:VEVENT
END:VCALENDAR
