BEGIN:VCALENDAR
PRODID:-//AT Content Types//AT Event//EN
VERSION:2.0
METHOD:PUBLISH
BEGIN:VEVENT
DTSTAMP:20260421T193609Z
CREATED:20131213T094716Z
UID:ATEvent-7686c1bacb08d704916113a277646c9b
LAST-MODIFIED:20220804T144631Z
SUMMARY:Comunicare efficacemente il valore dell'impresa alla banca - Formazione finanziata\, 6 - 11 - 19 marzo
DTSTART:20140306T080000Z
DTEND:20140319T120000Z
DESCRIPTION:Corso di formazione finanziata tramite Fondimpresa che mir
 a a fornire indicazioni utili per migliorare la qualitÃ  e la velocitÃ
   della relazione con la banca.
LOCATION:- Assolombarda - Sala Ingresso (piano terra) - Via Pantano 9\, Milano
URL:https://www.assolombarda.it/servizi/credito-finanza-e-incentivi/appuntamenti/comunicare-efficacemente-il-valore-dellimpresa-alla-banca-formazione-finanziata-6-2013-11-19-marzo
CLASS:PUBLIC
END:VEVENT
END:VCALENDAR
