BEGIN:VCALENDAR
PRODID:-//AT Content Types//AT Event//EN
VERSION:2.0
METHOD:PUBLISH
BEGIN:VEVENT
DTSTAMP:20260421T193427Z
CREATED:20130405T073922Z
UID:ATEvent-013907b7e44fbb55def2f3e2ae6a43c7
LAST-MODIFIED:20220804T144631Z
SUMMARY:Comunicare efficacemente il valore dell'impresa alla banca - Formazione finanziata\, 14 - 28 giugno e 4 luglio
DTSTART:20130614T070000Z
DTEND:20130704T110000Z
DESCRIPTION:Corso di formazione finanziata tramite Fondimpresa che mir
 a a fornire indicazioni utili per migliorare la qualitÃ  e la velocitÃ
   della relazione con la banca.
LOCATION:- Assolombarda - Sala Bianchi (4Â° piano) - Via Pantano 9\, Milano
URL:https://www.assolombarda.it/servizi/credito-finanza-e-incentivi/appuntamenti/comunicare-efficacemente-il-valore-dell-impresa-alla-banca
CLASS:PUBLIC
END:VEVENT
END:VCALENDAR
