BEGIN:VCALENDAR
PRODID:-//AT Content Types//AT Event//EN
VERSION:2.0
METHOD:PUBLISH
BEGIN:VEVENT
DTSTAMP:20260421T181445Z
CREATED:20120802T085934Z
UID:ATEvent-554ec1b80aeadbb53a0f6f5c601ba40f
LAST-MODIFIED:20220804T144630Z
SUMMARY:Garanzie per competere: Confidi presenta la nuova facility FEI-CIP 2012-2014
DTSTART:20121017T080000Z
DTEND:20121017T110000Z
DESCRIPTION:Incontro informativo con ospite Banca Popolare di Milano c
 he illustrerà alle imprese la nuova facility FEI-CIP per agevolare l'
 accesso al credito delle PMI locali.
LOCATION:- Assolombarda - Sala Falck (piano interrato) - Via Chiaravalle 8\, Milano
CONTACT:fin@assolombarda.it
URL:https://www.assolombarda.it/servizi/credito-finanza-e-incentivi/appuntamenti/come-ottimizzare-la-relazione-banca-e-impresa-pianifichiamo-la-crescita-con-confidi
CLASS:PUBLIC
END:VEVENT
END:VCALENDAR
