BEGIN:VCALENDAR
PRODID:-//AT Content Types//AT Event//EN
VERSION:2.0
METHOD:PUBLISH
BEGIN:VEVENT
DTSTAMP:20260421T181719Z
CREATED:20120802T090220Z
UID:ATEvent-9817399f1ee7bac1012717067fa66c61
LAST-MODIFIED:20220804T144630Z
SUMMARY:Fatturazione elettronica
DTSTART:20121024T080000Z
DTEND:20121024T110000Z
LOCATION:- Assolombarda - Sala Bracco (piano interrato) - Via Chiaravalle 8\, Milano
CONTACT:fin@assolombarda.it
URL:https://www.assolombarda.it/servizi/credito-finanza-e-incentivi/appuntamenti/come-ottimizzare-la-relazione-banca-e-impresa-pianifichiamo-la-crescita-con-confidi/fatturazione-elettronica
CLASS:PUBLIC
END:VEVENT
END:VCALENDAR
