BEGIN:VCALENDAR
PRODID:-//AT Content Types//AT Event//EN
VERSION:2.0
METHOD:PUBLISH
BEGIN:VEVENT
DTSTAMP:20260421T181446Z
CREATED:20120802T091447Z
UID:ATEvent-377ea40328d9b3c24c7cbde000e45243
LAST-MODIFIED:20220804T144630Z
SUMMARY:Come la banca valuta l'azienda
DTSTART:20121119T090000Z
DTEND:20121119T120000Z
DESCRIPTION:L'incontro ha l'obiettivo di presentare i criteri generali
  di credito e di far conoscere meglio le informazioni più utili da co
 municare per migliorare per la relazione con la banca.
LOCATION:- Assolombarda - Sala Falck (piano interrato) - Via Chiaravalle 8\, Milano
CONTACT:fin@assolombarda.it
URL:https://www.assolombarda.it/servizi/credito-finanza-e-incentivi/appuntamenti/come-la-banca-valuta-lazienda
CLASS:PUBLIC
END:VEVENT
END:VCALENDAR
