BEGIN:VCALENDAR
PRODID:-//AT Content Types//AT Event//EN
VERSION:2.0
METHOD:PUBLISH
BEGIN:VEVENT
DTSTAMP:20260421T214953Z
CREATED:20160802T153719Z
UID:ATEvent-6f0bc0d3d14f409a8d2275d8fe70dd52
LAST-MODIFIED:20220804T144626Z
SUMMARY:Come finanziare lo sviluppo della tua azienda
DTSTART:20160920T150000Z
DTEND:20160920T170000Z
DESCRIPTION:Accesso al credito e finanza agevolata per sostenere gli i
 nvestimenti della tua impresa.
LOCATION:Assolombarda Confindustria Milano Monza e Brianza - Presidio di Monza\, Viale Francesco Petrarca 10\, Monza - Sala Congressi
CONTACT:fin@assolombarda.it
URL:https://www.assolombarda.it/servizi/credito-finanza-e-incentivi/appuntamenti/come-finanziare-lo-sviluppo-della-tua-azienda
CLASS:PUBLIC
END:VEVENT
END:VCALENDAR
