BEGIN:VCALENDAR
PRODID:-//AT Content Types//AT Event//EN
VERSION:2.0
METHOD:PUBLISH
BEGIN:VEVENT
DTSTAMP:20260420T110047Z
CREATED:20150211T115656Z
UID:ATEvent-3a1096f971a87546945139ccfb797909
LAST-MODIFIED:20220804T144632Z
SUMMARY:Come fare per: presentare e rendicontare la Nuova Sabatini
DTSTART:20150303T090000Z
DTEND:20150303T113000Z
DESCRIPTION:Assolombarda\, in collaborazione con Assolombarda Servizi 
 Spa\, vuole aiutare le imprese a districarsi nelle procedure della Nuo
 va Sabatini tramite un incontro informativo dove saranno spiegati nel 
 dettaglio tutti i passaggi per prenotare ed ottenere il finanziamento 
 e contributo.
LOCATION:- Assolombarda - Sala Falck (piano interrato) - Via Chiaravalle 8\, Milano
CONTACT:fin@assolombarda.it
URL:https://www.assolombarda.it/servizi/credito-finanza-e-incentivi/appuntamenti/come-fare-per-presentare-e-rendicontare-la-nuova-sabatini
CLASS:PUBLIC
END:VEVENT
END:VCALENDAR
