BEGIN:VCALENDAR
PRODID:-//AT Content Types//AT Event//EN
VERSION:2.0
METHOD:PUBLISH
BEGIN:VEVENT
DTSTAMP:20260421T214112Z
CREATED:20161221T124854Z
UID:ATEvent-939b9e09204a4e9bac70e18ecb702a53
LAST-MODIFIED:20220804T144629Z
SUMMARY:Come dialogare con le banche e presentarsi al mercato
DTSTART:20170222T090000Z
DTEND:20170222T120000Z
DESCRIPTION:A seguito delle modifiche introdotte a partire dalla redaz
 ione dei bilanci 2016 e della continua evoluzione della normativa banc
 aria\, l'incontro ha l’obiettivo di aiutare le piccole e medie impre
 se a comprendere come devono costruire e raccontare il proprio busines
 s\, utilizzando senza indugi e senza eccessi anche strumenti volontari
  che possano permettere di comunicare efficacemente\, concretamente e 
 semplicemente il valore che genereranno negli anni.
LOCATION:- Assolombarda - Sala Bracco (piano interrato) - Via Chiaravalle 8\, Milano
CONTACT:fin@assolombarda.it
URL:https://www.assolombarda.it/servizi/credito-finanza-e-incentivi/appuntamenti/come-dialogare-con-le%20banche-e-presentarsi-al-mercato
CLASS:PUBLIC
END:VEVENT
END:VCALENDAR
