BEGIN:VCALENDAR
PRODID:-//AT Content Types//AT Event//EN
VERSION:2.0
METHOD:PUBLISH
BEGIN:VEVENT
DTSTAMP:20260421T181316Z
CREATED:20130314T134245Z
UID:ATEvent-8f0708136c5f856502f9877f15a246a4
LAST-MODIFIED:20220804T144631Z
SUMMARY:Come determinare la solvibilità e la redditività d'impresa
DTSTART:20130513T070000Z
DTEND:20130514T160000Z
DESCRIPTION:Corso di formazione finanziata tramite Ecole che mira a fo
 rnire gli strumenti per interpretare i più significativi indicatori d
 i reddività e solvibilità finanziaria.
LOCATION:- Assolombarda - Sala Bianchi (4° piano) - Via Pantano 9\, Milano
URL:https://www.assolombarda.it/servizi/credito-finanza-e-incentivi/appuntamenti/come-determinare-la-solvibilita-e-la-redditivita-dimpresa
CLASS:PUBLIC
END:VEVENT
END:VCALENDAR
