BEGIN:VCALENDAR
PRODID:-//AT Content Types//AT Event//EN
VERSION:2.0
METHOD:PUBLISH
BEGIN:VEVENT
DTSTAMP:20260421T203357Z
CREATED:20171114T094320Z
UID:ATEvent-5c7d252608124949bd18c4b82d8d8698
LAST-MODIFIED:20220804T144625Z
SUMMARY:Ciò che i numeri ci dicono\, ma è meglio raccontarlo anche con le parole!
DTSTART:20171120T161500Z
DTEND:20171120T193000Z
DESCRIPTION:L'evento sarà l’occasione per fare il punto sul rapport
 o banca impresa e su quali passi ulteriori possiamo fare insieme per r
 endere più fluida la relazione.\n\nVi aggiorneremo anche sulle grandi
  novità di Bancopass\, lo strumento che siamo riusciti a rendere di s
 uccesso grazie anche al contributo prezioso di tutti\, partners e azie
 nde e che vi presenteremo in ottica 4.0.
LOCATION:- Assolombarda - Sala Falck (piano interrato) - Via Chiaravalle 8\, Milano
CONTACT:fin@assolombarda.it
URL:https://www.assolombarda.it/servizi/credito-finanza-e-incentivi/appuntamenti/cio-che-i-numeri-ci-dicono-ma-e-meglio-raccontarlo-anche-con-le-parole
CLASS:PUBLIC
END:VEVENT
END:VCALENDAR
